BEGIN:VCALENDAR
VERSION:2.0
PRODID:-//Landeskirchliche Gemeinschaft Neuharlingersiel - ECPv6.15.20//NONSGML v1.0//EN
CALSCALE:GREGORIAN
METHOD:PUBLISH
X-WR-CALNAME:Landeskirchliche Gemeinschaft Neuharlingersiel
X-ORIGINAL-URL:https://gemeinschaft-neuharlingersiel.de
X-WR-CALDESC:Veranstaltungen für Landeskirchliche Gemeinschaft Neuharlingersiel
REFRESH-INTERVAL;VALUE=DURATION:PT1H
X-Robots-Tag:noindex
X-PUBLISHED-TTL:PT1H
BEGIN:VTIMEZONE
TZID:Europe/Berlin
BEGIN:DAYLIGHT
TZOFFSETFROM:+0100
TZOFFSETTO:+0200
TZNAME:CEST
DTSTART:20240331T010000
END:DAYLIGHT
BEGIN:STANDARD
TZOFFSETFROM:+0200
TZOFFSETTO:+0100
TZNAME:CET
DTSTART:20241027T010000
END:STANDARD
BEGIN:DAYLIGHT
TZOFFSETFROM:+0100
TZOFFSETTO:+0200
TZNAME:CEST
DTSTART:20250330T010000
END:DAYLIGHT
BEGIN:STANDARD
TZOFFSETFROM:+0200
TZOFFSETTO:+0100
TZNAME:CET
DTSTART:20251026T010000
END:STANDARD
BEGIN:DAYLIGHT
TZOFFSETFROM:+0100
TZOFFSETTO:+0200
TZNAME:CEST
DTSTART:20260329T010000
END:DAYLIGHT
BEGIN:STANDARD
TZOFFSETFROM:+0200
TZOFFSETTO:+0100
TZNAME:CET
DTSTART:20261025T010000
END:STANDARD
END:VTIMEZONE
BEGIN:VEVENT
DTSTART;TZID=Europe/Berlin:20250801T193000
DTEND;TZID=Europe/Berlin:20250801T203000
DTSTAMP:20260422T150604
CREATED:20250628T152332Z
LAST-MODIFIED:20250628T152332Z
UID:382-1754076600-1754080200@gemeinschaft-neuharlingersiel.de
SUMMARY:Gebetsstunde mit Abendmahl
DESCRIPTION:Nach einer kurzen Andacht und dem anschließenden Abendmahl (Brotbrechen)\, besteht die Möglichkeit sich am Gebet zu beteiligen.
URL:https://gemeinschaft-neuharlingersiel.de/veranstaltung/gebetsstunde-mit-abendmahl-7/
LOCATION:Netzschuppen\, Von-Eucken-Weg 1\, Neuharlingersiel\, Niedersachsen\, 26427\, Germany
CATEGORIES:Abendmahl,Gebetsstunde
ATTACH;FMTTYPE=image/jpeg:https://gemeinschaft-neuharlingersiel.de/wp-content/uploads/2024/12/Abendmahl.jpg
END:VEVENT
BEGIN:VEVENT
DTSTART;TZID=Europe/Berlin:20250803T193000
DTEND;TZID=Europe/Berlin:20250803T210000
DTSTAMP:20260422T150604
CREATED:20250628T150318Z
LAST-MODIFIED:20250628T150318Z
UID:366-1754249400-1754254800@gemeinschaft-neuharlingersiel.de
SUMMARY:Abendgottesdienst
DESCRIPTION:Es predigt Sven Ziegler
URL:https://gemeinschaft-neuharlingersiel.de/veranstaltung/abendgottesdienst-18/
LOCATION:Netzschuppen\, Von-Eucken-Weg 1\, Neuharlingersiel\, Niedersachsen\, 26427\, Germany
CATEGORIES:Abendgottesdienst
ATTACH;FMTTYPE=image/jpeg:https://gemeinschaft-neuharlingersiel.de/wp-content/uploads/2024/12/Aussenansicht-2.jpg
END:VEVENT
BEGIN:VEVENT
DTSTART;TZID=Europe/Berlin:20250808T193000
DTEND;TZID=Europe/Berlin:20250808T210000
DTSTAMP:20260422T150604
CREATED:20250628T153438Z
LAST-MODIFIED:20250628T153438Z
UID:394-1754681400-1754686800@gemeinschaft-neuharlingersiel.de
SUMMARY:Bibelstunde
DESCRIPTION:Wir betrachten zurzeit fortlaufend Bibelabschnitte aus dem Johannesevangelium. Ihr seid herzlich eingeladen.
URL:https://gemeinschaft-neuharlingersiel.de/veranstaltung/bibelstunde-16/
LOCATION:Netzschuppen\, Von-Eucken-Weg 1\, Neuharlingersiel\, Niedersachsen\, 26427\, Germany
CATEGORIES:Bibelstunde
ATTACH;FMTTYPE=image/jpeg:https://gemeinschaft-neuharlingersiel.de/wp-content/uploads/2024/12/Bibel.jpg
END:VEVENT
BEGIN:VEVENT
DTSTART;TZID=Europe/Berlin:20250810T193000
DTEND;TZID=Europe/Berlin:20250810T203000
DTSTAMP:20260422T150604
CREATED:20250628T151429Z
LAST-MODIFIED:20250628T151429Z
UID:376-1754854200-1754857800@gemeinschaft-neuharlingersiel.de
SUMMARY:Singabend
DESCRIPTION:Hier werden Lieder nach Wunsch gesungen. Wer möchte kann mitteilen\, was ihm an dem Lied wichtig geworden ist.
URL:https://gemeinschaft-neuharlingersiel.de/veranstaltung/singabend-16/
LOCATION:Netzschuppen\, Von-Eucken-Weg 1\, Neuharlingersiel\, Niedersachsen\, 26427\, Germany
CATEGORIES:Gemeinsames Singen
ATTACH;FMTTYPE=image/jpeg:https://gemeinschaft-neuharlingersiel.de/wp-content/uploads/2024/12/Gitarre.jpg
END:VEVENT
BEGIN:VEVENT
DTSTART;TZID=Europe/Berlin:20250815T193000
DTEND;TZID=Europe/Berlin:20250815T203000
DTSTAMP:20260422T150604
CREATED:20250628T152712Z
LAST-MODIFIED:20250628T152712Z
UID:386-1755286200-1755289800@gemeinschaft-neuharlingersiel.de
SUMMARY:Gebetsstunde
DESCRIPTION:Nach einer kurzen Andacht können wir unser Herz bei Gott ausschütten und füreinander beten.
URL:https://gemeinschaft-neuharlingersiel.de/veranstaltung/gebetsstunde-11/
LOCATION:Netzschuppen\, Von-Eucken-Weg 1\, Neuharlingersiel\, Niedersachsen\, 26427\, Germany
CATEGORIES:Gebetsstunde
ATTACH;FMTTYPE=image/jpeg:https://gemeinschaft-neuharlingersiel.de/wp-content/uploads/2024/12/Fotolia_679477_Beten.jpg
END:VEVENT
BEGIN:VEVENT
DTSTART;TZID=Europe/Berlin:20250817T193000
DTEND;TZID=Europe/Berlin:20250817T210000
DTSTAMP:20260422T150604
CREATED:20250628T150451Z
LAST-MODIFIED:20250628T150451Z
UID:368-1755459000-1755464400@gemeinschaft-neuharlingersiel.de
SUMMARY:Abendgottesdienst
DESCRIPTION:Es predigt Tjard Jacobs
URL:https://gemeinschaft-neuharlingersiel.de/veranstaltung/abendgottesdienst-19/
LOCATION:Netzschuppen\, Von-Eucken-Weg 1\, Neuharlingersiel\, Niedersachsen\, 26427\, Germany
CATEGORIES:Abendgottesdienst
ATTACH;FMTTYPE=image/jpeg:https://gemeinschaft-neuharlingersiel.de/wp-content/uploads/2024/12/Aussenansicht-2.jpg
END:VEVENT
BEGIN:VEVENT
DTSTART;TZID=Europe/Berlin:20250822T193000
DTEND;TZID=Europe/Berlin:20250822T210000
DTSTAMP:20260422T150604
CREATED:20250628T153635Z
LAST-MODIFIED:20250628T153635Z
UID:396-1755891000-1755896400@gemeinschaft-neuharlingersiel.de
SUMMARY:Bibelstunde
DESCRIPTION:Wir betrachten zurzeit fortlaufend Bibelabschnitte aus dem Johannesevangelium. Ihr seid herzlich eingeladen.
URL:https://gemeinschaft-neuharlingersiel.de/veranstaltung/bibelstunde-17/
LOCATION:Netzschuppen\, Von-Eucken-Weg 1\, Neuharlingersiel\, Niedersachsen\, 26427\, Germany
CATEGORIES:Bibelstunde
ATTACH;FMTTYPE=image/jpeg:https://gemeinschaft-neuharlingersiel.de/wp-content/uploads/2024/12/Bibel.jpg
END:VEVENT
BEGIN:VEVENT
DTSTART;TZID=Europe/Berlin:20250823T150000
DTEND;TZID=Europe/Berlin:20250823T210000
DTSTAMP:20260422T150604
CREATED:20250820T165953Z
LAST-MODIFIED:20250820T165953Z
UID:406-1755961200-1755982800@gemeinschaft-neuharlingersiel.de
SUMMARY:Hoffnungsfestival
DESCRIPTION:Das Hoffnungsfestival ist der perfekte Ort\, um das Leben zu feiern\, raus aus deinem Alltag zu kommen und neue Perspektiven zu gewinnen. \nNeben vielen Ständen und Aktionen für die ganze Familie erwarten dich kreative Sessions mit inspirierenden Talks\, Musik und bewegenden Lebensgeschichten\, die deutschlandweit live gestreamt werden. Erfahre alltagsrelevante Erkenntnisse von internationalen Speakern aus der Schnittmenge von Wissenschaft\, Spiritualität und christlichem Glauben. Parallel dazu gibt es ein extra Programm für Kinder mit dem Festival Fantastico. \nLass dir das nicht entgehen und komm gerne vorbei! \n\n\n\n\n\n\nAb 15 Uhr beginnt das Hoffnungsfestival auf unserem Gelände Hohekamp 10 in Esens. \nEs erwarten dich Hüpfburg\, Stockbrot\, Kinder Maltische\, Live Musik\, versch. Essensstände\, Riesen ESDA Steine zum bauen und vieles mehr. \nAb 18:30 Uhr beginnt die Abendveranstaltung live aus Magdeburg mit inspirierenden Sprechern und Gästen zu dem Thema: \nHoffnungsvoll leben \nWie du emotional gesund durch Krisen kommst \nParallel zum erwachsenen Programm findet für die Kinder das Festival Fantastico mit einem spannenden Programm statt. Schaut gerne schon ab 18:10 Uhr beim CheckIn vorbei\, damit deine Kinder dabei sein können. \nWir freuen uns auf dich. Sei dabei!
URL:https://gemeinschaft-neuharlingersiel.de/veranstaltung/hoffnungsfestival/
LOCATION:Ev.-Freikirchliche Gemeinde Esens\, Hohekamp 10\, Esens\, Niedersachsen\, 26427\, Germany
CATEGORIES:Event
ATTACH;FMTTYPE=image/png:https://gemeinschaft-neuharlingersiel.de/wp-content/uploads/2025/08/Hoffnungsfestival.png
ORGANIZER;CN="Ev.-Freikirchliche Gemeinde Esens (Baptisten)":MAILTO:moin@efg-esens.de
END:VEVENT
BEGIN:VEVENT
DTSTART;TZID=Europe/Berlin:20250824T100000
DTEND;TZID=Europe/Berlin:20250824T210000
DTSTAMP:20260422T150604
CREATED:20250820T170428Z
LAST-MODIFIED:20250820T171037Z
UID:409-1756029600-1756069200@gemeinschaft-neuharlingersiel.de
SUMMARY:Hoffnungsfestival
DESCRIPTION:Ab 10 Uhr findet ein Gottesdienst live aus Magdeburg statt\, zu dem wir jeden herzlich einladen. Dieser findet zu dem Thema: \nVersöhnt leben \nMit mir und anderen klarkommen \nAb 12 Uhr beginnt das Hoffnungsfestival wieder auf unserem Gelände Hohekamp 10 in Esens mit vielen Attraktionen wie Hüpfburg\, Kinder Maltische\, Riesen ESDA Steine und als besonderes Highlight die Spielefeuerwehr aus Oldenburg. \nAuch fürs leibliche wohl ist gesorgt\, sodass wir mehrere Stände mit Essen\, Getränken\, Kaffee und Kuchen haben. \nAb 18:30 Uhr beginnt die Abendveranstaltung live aus Magdeburg mit inspirierenden Sprechern und Gästen zu dem Thema: \nAusgeglichen leben \nUnabhängig von den Umständen \nParallel zum erwachsenen Programm findet für die Kinder das Festival Fantastico mit einem spannenden Kinderprogramm statt. Schaut gerne schon ab 18:10 Uhr beim CheckIn vorbei\, damit deine Kinder dabei sein können. \nWir freuen uns auf dich. Sei dabei!
URL:https://gemeinschaft-neuharlingersiel.de/veranstaltung/hoffnungsfestival-2/
LOCATION:Ev.-Freikirchliche Gemeinde Esens\, Hohekamp 10\, Esens\, Niedersachsen\, 26427\, Germany
CATEGORIES:Event
ATTACH;FMTTYPE=image/png:https://gemeinschaft-neuharlingersiel.de/wp-content/uploads/2025/08/Hoffnungsfestival.png
ORGANIZER;CN="Ev.-Freikirchliche Gemeinde Esens (Baptisten)":MAILTO:moin@efg-esens.de
END:VEVENT
BEGIN:VEVENT
DTSTART;TZID=Europe/Berlin:20250824T193000
DTEND;TZID=Europe/Berlin:20250824T203000
DTSTAMP:20260422T150604
CREATED:20250628T151601Z
LAST-MODIFIED:20250628T151601Z
UID:378-1756063800-1756067400@gemeinschaft-neuharlingersiel.de
SUMMARY:Singabend
DESCRIPTION:Hier werden Lieder nach Wunsch gesungen. Wer möchte kann mitteilen\, was ihm an dem Lied wichtig geworden ist.
URL:https://gemeinschaft-neuharlingersiel.de/veranstaltung/singabend-17/
LOCATION:Netzschuppen\, Von-Eucken-Weg 1\, Neuharlingersiel\, Niedersachsen\, 26427\, Germany
CATEGORIES:Gemeinsames Singen
ATTACH;FMTTYPE=image/jpeg:https://gemeinschaft-neuharlingersiel.de/wp-content/uploads/2024/12/Gitarre.jpg
END:VEVENT
BEGIN:VEVENT
DTSTART;TZID=Europe/Berlin:20250825T173000
DTEND;TZID=Europe/Berlin:20250825T210000
DTSTAMP:20260422T150604
CREATED:20250820T170725Z
LAST-MODIFIED:20250820T171100Z
UID:411-1756143000-1756155600@gemeinschaft-neuharlingersiel.de
SUMMARY:Hoffnungsfestival
DESCRIPTION:Ab 17:30 Uhr Möglichkeit für Gespräche bei leckeren Snacks und Getränken. \nAb 18:30 Uhr beginnt die Abendveranstaltung live aus Magdeburg mit inspirierenden Sprechern und Gästen zu dem Thema: \nZuversichtlich leben \nWeil der Tod nicht das Ende ist \nWir freuen uns auf dich. Sei dabei!
URL:https://gemeinschaft-neuharlingersiel.de/veranstaltung/hoffnungsfestival-3/
LOCATION:Ev.-Freikirchliche Gemeinde Esens\, Hohekamp 10\, Esens\, Niedersachsen\, 26427\, Germany
CATEGORIES:Event
ATTACH;FMTTYPE=image/png:https://gemeinschaft-neuharlingersiel.de/wp-content/uploads/2025/08/Hoffnungsfestival.png
ORGANIZER;CN="Ev.-Freikirchliche Gemeinde Esens (Baptisten)":MAILTO:moin@efg-esens.de
END:VEVENT
BEGIN:VEVENT
DTSTART;TZID=Europe/Berlin:20250826T173000
DTEND;TZID=Europe/Berlin:20250826T210000
DTSTAMP:20260422T150604
CREATED:20250820T170939Z
LAST-MODIFIED:20250820T171126Z
UID:413-1756229400-1756242000@gemeinschaft-neuharlingersiel.de
SUMMARY:Hoffnungsfestival
DESCRIPTION:Ab 17:30 Uhr Möglichkeit für Gespräche bei leckeren Snacks und Getränken. \nAb 18:30 Uhr beginnt die Abendveranstaltung live aus Magdeburg mit inspirierenden Sprechern und Gästen zu dem Thema: \nFokussiert leben \nWofür es sich zu leben lohnt \nWir freuen uns auf dich. Sei dabei!
URL:https://gemeinschaft-neuharlingersiel.de/veranstaltung/hoffnungsfestival-4/
LOCATION:Ev.-Freikirchliche Gemeinde Esens\, Hohekamp 10\, Esens\, Niedersachsen\, 26427\, Germany
CATEGORIES:Event
ATTACH;FMTTYPE=image/png:https://gemeinschaft-neuharlingersiel.de/wp-content/uploads/2025/08/Hoffnungsfestival.png
ORGANIZER;CN="Ev.-Freikirchliche Gemeinde Esens (Baptisten)":MAILTO:moin@efg-esens.de
END:VEVENT
BEGIN:VEVENT
DTSTART;TZID=Europe/Berlin:20250829T193000
DTEND;TZID=Europe/Berlin:20250829T203000
DTSTAMP:20260422T150604
CREATED:20250628T152919Z
LAST-MODIFIED:20250628T152919Z
UID:388-1756495800-1756499400@gemeinschaft-neuharlingersiel.de
SUMMARY:Gebetsstunde
DESCRIPTION:Nach einer kurzen Andacht können wir unser Herz bei Gott ausschütten und füreinander beten.
URL:https://gemeinschaft-neuharlingersiel.de/veranstaltung/gebetsstunde-12/
LOCATION:Netzschuppen\, Von-Eucken-Weg 1\, Neuharlingersiel\, Niedersachsen\, 26427\, Germany
CATEGORIES:Gebetsstunde
ATTACH;FMTTYPE=image/jpeg:https://gemeinschaft-neuharlingersiel.de/wp-content/uploads/2024/12/Fotolia_679477_Beten.jpg
END:VEVENT
BEGIN:VEVENT
DTSTART;TZID=Europe/Berlin:20250831T193000
DTEND;TZID=Europe/Berlin:20250831T210000
DTSTAMP:20260422T150604
CREATED:20250628T150630Z
LAST-MODIFIED:20250628T150630Z
UID:370-1756668600-1756674000@gemeinschaft-neuharlingersiel.de
SUMMARY:Abendgottesdienst
DESCRIPTION:Es predigt Manuel Aswegen
URL:https://gemeinschaft-neuharlingersiel.de/veranstaltung/abendgottesdienst-20/
LOCATION:Netzschuppen\, Von-Eucken-Weg 1\, Neuharlingersiel\, Niedersachsen\, 26427\, Germany
CATEGORIES:Abendgottesdienst
ATTACH;FMTTYPE=image/jpeg:https://gemeinschaft-neuharlingersiel.de/wp-content/uploads/2024/12/Aussenansicht-2.jpg
END:VEVENT
END:VCALENDAR