BEGIN:VCALENDAR
VERSION:2.0
PRODID:-//Landeskirchliche Gemeinschaft Neuharlingersiel - ECPv6.15.20//NONSGML v1.0//EN
CALSCALE:GREGORIAN
METHOD:PUBLISH
X-ORIGINAL-URL:https://gemeinschaft-neuharlingersiel.de
X-WR-CALDESC:Veranstaltungen für Landeskirchliche Gemeinschaft Neuharlingersiel
REFRESH-INTERVAL;VALUE=DURATION:PT1H
X-Robots-Tag:noindex
X-PUBLISHED-TTL:PT1H
BEGIN:VTIMEZONE
TZID:Europe/Berlin
BEGIN:DAYLIGHT
TZOFFSETFROM:+0100
TZOFFSETTO:+0200
TZNAME:CEST
DTSTART:20240331T010000
END:DAYLIGHT
BEGIN:STANDARD
TZOFFSETFROM:+0200
TZOFFSETTO:+0100
TZNAME:CET
DTSTART:20241027T010000
END:STANDARD
BEGIN:DAYLIGHT
TZOFFSETFROM:+0100
TZOFFSETTO:+0200
TZNAME:CEST
DTSTART:20250330T010000
END:DAYLIGHT
BEGIN:STANDARD
TZOFFSETFROM:+0200
TZOFFSETTO:+0100
TZNAME:CET
DTSTART:20251026T010000
END:STANDARD
BEGIN:DAYLIGHT
TZOFFSETFROM:+0100
TZOFFSETTO:+0200
TZNAME:CEST
DTSTART:20260329T010000
END:DAYLIGHT
BEGIN:STANDARD
TZOFFSETFROM:+0200
TZOFFSETTO:+0100
TZNAME:CET
DTSTART:20261025T010000
END:STANDARD
END:VTIMEZONE
BEGIN:VEVENT
DTSTART;TZID=Europe/Berlin:20250825T173000
DTEND;TZID=Europe/Berlin:20250825T210000
DTSTAMP:20260422T163435
CREATED:20250820T170725Z
LAST-MODIFIED:20250820T171100Z
UID:411-1756143000-1756155600@gemeinschaft-neuharlingersiel.de
SUMMARY:Hoffnungsfestival
DESCRIPTION:Ab 17:30 Uhr Möglichkeit für Gespräche bei leckeren Snacks und Getränken. \nAb 18:30 Uhr beginnt die Abendveranstaltung live aus Magdeburg mit inspirierenden Sprechern und Gästen zu dem Thema: \nZuversichtlich leben \nWeil der Tod nicht das Ende ist \nWir freuen uns auf dich. Sei dabei!
URL:https://gemeinschaft-neuharlingersiel.de/veranstaltung/hoffnungsfestival-3/
LOCATION:Ev.-Freikirchliche Gemeinde Esens\, Hohekamp 10\, Esens\, Niedersachsen\, 26427\, Germany
CATEGORIES:Event
ATTACH;FMTTYPE=image/png:https://gemeinschaft-neuharlingersiel.de/wp-content/uploads/2025/08/Hoffnungsfestival.png
ORGANIZER;CN="Ev.-Freikirchliche Gemeinde Esens (Baptisten)":MAILTO:moin@efg-esens.de
END:VEVENT
END:VCALENDAR