BEGIN:VCALENDAR
VERSION:2.0
PRODID:-//Landeskirchliche Gemeinschaft Neuharlingersiel - ECPv6.15.20//NONSGML v1.0//EN
CALSCALE:GREGORIAN
METHOD:PUBLISH
X-ORIGINAL-URL:https://gemeinschaft-neuharlingersiel.de
X-WR-CALDESC:Veranstaltungen für Landeskirchliche Gemeinschaft Neuharlingersiel
REFRESH-INTERVAL;VALUE=DURATION:PT1H
X-Robots-Tag:noindex
X-PUBLISHED-TTL:PT1H
BEGIN:VTIMEZONE
TZID:Europe/Berlin
BEGIN:DAYLIGHT
TZOFFSETFROM:+0100
TZOFFSETTO:+0200
TZNAME:CEST
DTSTART:20240331T010000
END:DAYLIGHT
BEGIN:STANDARD
TZOFFSETFROM:+0200
TZOFFSETTO:+0100
TZNAME:CET
DTSTART:20241027T010000
END:STANDARD
BEGIN:DAYLIGHT
TZOFFSETFROM:+0100
TZOFFSETTO:+0200
TZNAME:CEST
DTSTART:20250330T010000
END:DAYLIGHT
BEGIN:STANDARD
TZOFFSETFROM:+0200
TZOFFSETTO:+0100
TZNAME:CET
DTSTART:20251026T010000
END:STANDARD
BEGIN:DAYLIGHT
TZOFFSETFROM:+0100
TZOFFSETTO:+0200
TZNAME:CEST
DTSTART:20260329T010000
END:DAYLIGHT
BEGIN:STANDARD
TZOFFSETFROM:+0200
TZOFFSETTO:+0100
TZNAME:CET
DTSTART:20261025T010000
END:STANDARD
END:VTIMEZONE
BEGIN:VEVENT
DTSTART;TZID=Europe/Berlin:20250824T100000
DTEND;TZID=Europe/Berlin:20250824T210000
DTSTAMP:20260422T163437
CREATED:20250820T170428Z
LAST-MODIFIED:20250820T171037Z
UID:409-1756029600-1756069200@gemeinschaft-neuharlingersiel.de
SUMMARY:Hoffnungsfestival
DESCRIPTION:Ab 10 Uhr findet ein Gottesdienst live aus Magdeburg statt\, zu dem wir jeden herzlich einladen. Dieser findet zu dem Thema: \nVersöhnt leben \nMit mir und anderen klarkommen \nAb 12 Uhr beginnt das Hoffnungsfestival wieder auf unserem Gelände Hohekamp 10 in Esens mit vielen Attraktionen wie Hüpfburg\, Kinder Maltische\, Riesen ESDA Steine und als besonderes Highlight die Spielefeuerwehr aus Oldenburg. \nAuch fürs leibliche wohl ist gesorgt\, sodass wir mehrere Stände mit Essen\, Getränken\, Kaffee und Kuchen haben. \nAb 18:30 Uhr beginnt die Abendveranstaltung live aus Magdeburg mit inspirierenden Sprechern und Gästen zu dem Thema: \nAusgeglichen leben \nUnabhängig von den Umständen \nParallel zum erwachsenen Programm findet für die Kinder das Festival Fantastico mit einem spannenden Kinderprogramm statt. Schaut gerne schon ab 18:10 Uhr beim CheckIn vorbei\, damit deine Kinder dabei sein können. \nWir freuen uns auf dich. Sei dabei!
URL:https://gemeinschaft-neuharlingersiel.de/veranstaltung/hoffnungsfestival-2/
LOCATION:Ev.-Freikirchliche Gemeinde Esens\, Hohekamp 10\, Esens\, Niedersachsen\, 26427\, Germany
CATEGORIES:Event
ATTACH;FMTTYPE=image/png:https://gemeinschaft-neuharlingersiel.de/wp-content/uploads/2025/08/Hoffnungsfestival.png
ORGANIZER;CN="Ev.-Freikirchliche Gemeinde Esens (Baptisten)":MAILTO:moin@efg-esens.de
END:VEVENT
BEGIN:VEVENT
DTSTART;TZID=Europe/Berlin:20250824T193000
DTEND;TZID=Europe/Berlin:20250824T203000
DTSTAMP:20260422T163437
CREATED:20250628T151601Z
LAST-MODIFIED:20250628T151601Z
UID:378-1756063800-1756067400@gemeinschaft-neuharlingersiel.de
SUMMARY:Singabend
DESCRIPTION:Hier werden Lieder nach Wunsch gesungen. Wer möchte kann mitteilen\, was ihm an dem Lied wichtig geworden ist.
URL:https://gemeinschaft-neuharlingersiel.de/veranstaltung/singabend-17/
LOCATION:Netzschuppen\, Von-Eucken-Weg 1\, Neuharlingersiel\, Niedersachsen\, 26427\, Germany
CATEGORIES:Gemeinsames Singen
ATTACH;FMTTYPE=image/jpeg:https://gemeinschaft-neuharlingersiel.de/wp-content/uploads/2024/12/Gitarre.jpg
END:VEVENT
END:VCALENDAR